BEGIN:VCALENDAR
VERSION:2.0
PRODID:-//wp-events-plugin.com//7.2.3.1//EN
BEGIN:VEVENT
UID:9b2c913c-de1b-4d97-b07f-dbd9843d1878
DTSTART:20260217T140000Z
DTEND:20260219T210000Z
DTSTAMP:20260304T133448Z
SUMMARY:Automobilia\, Petroliana\, Advertising\, Bottles\, & Flasks
DESCRIPTION:Pabst beer sign took the blue ribbon at Morphy’s Feb. 17-19 Automobilia &amp\; Petroliana Auction of motoring-related\, brewery and other signage\n&nbsp\;\n\nOther highlights: High-grade single-sided tin sign for Ace High Motor Oil\; Canadian twin 10-gallon double visible gas pump\; Red Hat Motor Oil flange sign\; Flying A and Tioga gasoline signs\n\n&nbsp\;\n\nDENVER\, Pa. – A spectacular Pabst Blue Ribbon double-sided porcelain neon sign with unique glass face inserts chalked up $44\,280\; a rare\, high-grade single-sided tin sign for Ace High Motor Oil with car and airplane graphic garnered $41\,820\; and a Canadian twin 10-gallon double-visible gas pump rang up $34\,440 at Morphy’s Automobilia &amp\; Petroliana auction held February 17-19.\n\n&nbsp\;\n\nThe three-day event was packed with nearly 1\,500 lots of motoring-related signage and service station items\, antique advertising\, bottles and flasks\, all meant to appeal to discerning collectors. It was held live at Morphy’s Pennsylvania gallery\, with all forms of remote bidding available\, including live via the internet thru Morphy Live.\n\n&nbsp\;\n\nThe Pabst Blue Ribbon double-sided porcelain neon sign was the overall top lot of the three days\, easily breezing past its $10\,000 high estimate. Mounted to its original can\, the sign was a fine\, rust-free example that would enhance any breweriana collection. It was large\, measuring 58 inches by 11 inches by 38 inches\, and was graded 8.9+ on both sides.\n\n&nbsp\;\n\nThe rare and high-grade single-sided tin sign for Ace High Motor Oil\, with a car-and-airplane graphic\, measured 7¾ inches by 13¼ inches. Like some other choice lots in the auction\, it was certified and graded by AGS\, the premier authentication and grading service for antique advertising. It boasted great color and gloss throughout the field and was one of the highest-grade examples of this type of sign that Morphy has ever sold. Already expected to do well\, it still surpassed its $30\,000 high estimate.\n\n&nbsp\;\n\nThe Canadian twin 10-gallon double visible gas pump\, standing 100 inches tall\, had undergone an older restoration in red\, white and gold livery. The pump showed two intact glass cylinders\, with the upper one in very good to excellent condition. It was a candidate for a good cleaning\, or even a new restoration\, but eager bidders pushed the final selling price to more than triple the high estimate.\n\n&nbsp\;\n\nA Red Hat Motor Oil (“Approved”) tin flange sign with an eye-catching top hat graphic was offered in original as-found condition. It was graded 7.75\, but as was the case with the Canadian gas pump\, bidders looked past the imperfections and drove the winning bid to a lofty $31\,980 against a pre-sale estimate of $3\,000-$7\,000. The sign measured 17¾ inches high by 17½ inches wide.\n\n&nbsp\;\n\nA double-sided tin flange sign for Du Pont Red Cross Dynamite (“For Clearing Land\, Planting Trees\, Deep Plowing and Ditching”)\, graded 8.5 for condition\, measured 23¼ inches by 12½ inches. It sold for $29\,520\, more than tripling the high estimate. Sides 1 and 2 both showed good color and shine.\n\n&nbsp\;\n\nTwo petroliana lots posted identical selling prices of $19\,680. One was a Flying A Gasoline single-sided embossed porcelain sign\, showing excellent color and gloss throughout the field and a clean Flying A graphic. The bright and glossy example\, measuring 62 inches by 48 inches and graded well at 8.5 for condition\, had no problem surging past the $4\,000-$7\,000 pre-auction estimate. The other was a brilliant example of a Tioga Gasoline single 13½-inch diameter globe lens with a visually arresting Native American graphic. The globe lens\, boasting excellent color and gloss throughout\, scored a near-perfect 9.0 for condition. It exhibited negligible wear in the field.\n\n&nbsp\;\n\nA brightly-colored and embossed single-sided tin sign advertising Everlasting Roof and Metal Paint (“Old Government Paints”) by the United States Refining Company out of Cleveland\, Ohio\, brought $18\,450 against a high estimate of $10\,000. Showing a graphic of Uncle Sam standing on the Capitol Dome\, the sign was produced by Meek &amp\; Beach Company of Coshocton\, Ohio. It exhibited great color and good shine and measures 9¾ inches by 13¾ inches. It was graded 8.7.\n\n&nbsp\;\n\nA rare\, circa-1920s single-sided curved porcelain Campbell’s Tomato Soup can sign\, measuring 22½ inches by 12¾ inches and graded 8.5+\, exhibited exceptional color and gloss. It was expected to change hands for $6\,000-$12\,000 but ended up finishing at $14\,760. The iconic Campbell’s Tomato Soup can went from grocery store staple to pop art superstardom thanks to Andy Warhol\, whose original prints depicting the can now sell for dizzying prices at auction.\n\n&nbsp\;\n\nA circa-1920s one-gallon can from Valvoline Oil Company (“100% Pure Pennsylvania”)\, made exclusively for Indian Motorcycles\, was overall bright and glossy on each side and showed a clean Native American graphic front and back. The iconic can marketed by Indian\, 11 inches tall and graded 8.0\, realized $11\,685\, besting the $10\,000 high estimate. Each side had “Panhard Cycle” handwritten into the grade panel\, and the original lid and carrying handle were both intact.\n\n&nbsp\;\n\nTo discuss consigning to a future Automobilia &amp\; Petroliana Auction\, or other auction hosted by Morphy’s\, call Dan Morphy at 877-968-8880 or email info@morphyauctions.com. All enquiries are kept strictly confidential\, and there is never an obligation to consign. Online: www.morphyauctions.com.\n\n&nbsp\;\n\n&nbsp\;\n\n&nbsp\;\n\nCAPTIONS:\n\n&nbsp\;\n\nAll images courtesy of Morphy Auctions\n\n&nbsp\;\n\n1052 –\n\n\n\nhttps://auctions.morphyauctions.com/RED_HAT_MOTOR_OIL_TIN_FLANGE_SIGN_W__TOP_HAT_GRAPH-LOT655070.aspx\n\nRed Hat Motor Oil (“Approved”) tin flange sign with eye-catching top hat graphic\, graded a modest 7.75 and measuring 17¾ inches in height by 17½ inches wide\, $31\,980\n\n&nbsp\;\n\n1160 –\n\n\n\nhttps://auctions.morphyauctions.com/TIN_FLANGE_ADVERTISING_FOR_DU_PONT_RED_CROSS_DYNAM-LOT657804.aspx\n\nDouble-sided tin flange sign for Du Pont Red Cross Dynamite (“For Clearing Land\, Planting Trees\, Deep Plowing and Ditching”)\, graded 8.5 for condition\, 23¼ inches by 12½ inches\, $29\,520\n\n&nbsp\;\n\n1217 –\n\n\n\nhttps://auctions.morphyauctions.com/FLYING_A_GASOLINE_EMBOSSED_PORCELAIN_SIGN-LOT659933.aspx\n\nFlying A Gasoline single-sided embossed porcelain sign\, showing excellent color and gloss throughout the field and a clean Flying A graphic\, 62 inches by 48 inches and graded 8.5\, $19\,680\n\n&nbsp\;\n\n1256 –\n\n\n\nhttps://auctions.morphyauctions.com/RARE_ACE_HIGH_MOTOR_OIL_EMBOSSED_TIN_SIGN_W__CAR__-LOT656680.aspx\n\nRare and high-grade single-sided tin sign for Ace High Motor Oil\, car and airplane graphic\, 7¾ inches by 13¼ inches\, graded by AGS\, the premier authentication and grading service\, $41\,820\n\n&nbsp\;\n\n1294 –\n\n\n\nhttps://auctions.morphyauctions.com/INDIAN_MOTORCYCLE_OIL_ONE_GALLON_OIL_CAN-LOT655176.aspx\n\nCirca-1920s one-gallon can from Valvoline Oil Company (“100% Pure Pennsylvania”)\, made exclusively for Indian Motorcycles\, showing a Native American graphic front and back\, $11\,685\n\n&nbsp\;\n\n1352 –\n\n\n\nhttps://auctions.morphyauctions.com/PHENOMENAL_EMBOSSED_TIN_SIGN_W__UNCLE_SAM_ADVERTIS-LOT659417.aspx\n\nBrightly-colored\, embossed single-sided tin sign advertising Everlasting Roof and Metal Paint (“Old Government Paints”) by the United States Refining Company\, Cleveland\, Ohio\, $18\,450\n\n&nbsp\;\n\n1506 -\n\n\n\nhttps://auctions.morphyauctions.com/TIOGA_GASOLINE_SINGLE_13_5__GLOBE_LENS_WITH_NATIVE-LOT660292.aspx\n\nTioga Gasoline single 13½-inch diameter globe lens with a visually arresting Native American graphic\, boasting excellent color and gloss throughout\, scoring 9.0 for condition\, $19\,680\n\n&nbsp\;\n\n2013 –\n\n\n\nhttps://auctions.morphyauctions.com/RARE_CAMPBELL_S_TOMATO_SOUP_CAN_CURVED_PORCELAIN_S-LOT653333.aspx\n\nRare\, circa-1920s single-sided curved porcelain Campbell’s Tomato Soup can sign\, measuring 22½ inches by 12¾ inches and graded 8.5+\, exhibiting exceptional color and gloss\, $14\,760\n\n&nbsp\;\n\n2127 –\n\n\n\nhttps://auctions.morphyauctions.com/CANADIAN_TWIN_DOUBLE_VISIBLE_GAS_PUMP-LOT660506.aspx\n\nCanadian twin 10-gallon double-visible gas pump\, standing 100 inches tall\, showing an older restoration done in red\, white and gold\, the pump showing two intact glass cylinders\, $34\,440\n\n&nbsp\;\n\n2149 –\n\n\n\nhttps://auctions.morphyauctions.com/PABST_BLUE_RIBBON_DOUBLE_SIDED_PORCELAIN_NEON_SIGN-LOT563357.aspx\n\nPabst Blue Ribbon double-sided porcelain neon sign with unique glass face inserts\, a fine example of breweriana\, 58 inches by 11 inches by 38 inches\, graded 8.9+ both sides\, $44\,280\n\n&nbsp\;
LOCATION:Morphy Auctions\, 2000 North Reading Road\, Denver\, PA\, 17517\, United States
URL:https://morphyauctions.com/auctions/past-auctions/automobilia-petroliana-las-vegas-3/
END:VEVENT
END:VCALENDAR