BEGIN:VCALENDAR
VERSION:2.0
PRODID:-//wp-events-plugin.com//7.2.3.1//EN
BEGIN:VEVENT
UID:3cb7c391-2e86-474d-9748-325b3253ebb3
DTSTART:20230719T130000Z
DTEND:20230720T220000Z
DTSTAMP:20230727T144627Z
SUMMARY:Automobilia & Petroliana
DESCRIPTION:\n\n[gallery ids="46296\,46081\,46298\,46297\,46078\,46082\,46080\,46079\,46299"]
LOCATION:Morphy Auctions\, 2000 North Reading Road\, Denver\, PA\, 17517\, United States
URL:https://morphyauctions.com/auctions/past-auctions/automobilia-petroliana-railroadiana-3/
END:VEVENT
END:VCALENDAR