BEGIN:VCALENDAR
VERSION:2.0
PRODID:-//wp-events-plugin.com//7.2.3.1//EN
BEGIN:VEVENT
UID:5461c60a-6921-432e-92fa-e25233a068ca
DTSTART:20200620T140000Z
DTEND:20200622T033000Z
DTSTAMP:20200702T124357Z
SUMMARY:Coin-Op & Advertising
DESCRIPTION:[gallery ids="26238\,25984\,25980\,25979\,25981\,25990\,25998\,25983\,25985\,25999\,25986\,25978\,25987\,25988\,25989\,25991\,25992\,25993\,25994\,25995\,25996\,25997\,25982"]\n\nItems are on display now. Our gallery is open for preview Monday – Friday 9:00 am – 4:00 pm. If you wish to preview with an expert\, please call and arrange an appointment.
LOCATION:Morphy Auctions\, 2000 North Reading Road\, Denver\, PA\, 17517\, United States
URL:https://morphyauctions.com/auctions/past-auctions/coin-op-advertising-8/
END:VEVENT
END:VCALENDAR