BEGIN:VCALENDAR
VERSION:2.0
PRODID:-//wp-events-plugin.com//7.2.3.1//EN
BEGIN:VEVENT
UID:152c81e1-11c7-45d5-9e95-09b9104eac1b
DTSTART:20240411T130000Z
DTEND:20240413T210000Z
DTSTAMP:20240422T150444Z
SUMMARY:Coin-Op & Advertising - Las Vegas
DESCRIPTION:Auction Address: 4520 Arville St. #1\, Las Vegas\, NV 89103\n\n\nHOTEL ACCOMMODATIONS\n\nThe Orleans Hotel Casino (4500 W Tropicana Ave\, Las Vegas\, NV 89103)\n\nClick Here to Book Your Room or Call 1-800-675-3267\n\nPalms Place Hotel (4381 W Flamingo Rd\, Las Vegas\, NV 89103)\n\nClick Here to Book Your Room or Call 866-752-2236 and use code MORPHPP\n\nPalms Casino Resort (4321 W Flamingo Rd\, Las Vegas\, NV 89103)\n\nClick Here to Book Your Room or Call 866-942-7777 and use code MORPHPC\n\n[gallery ids="47844\,47846\,47847\,47845\,47849\,47851\,47855\,47854\,47848\,47852\,47850\,47853"]
LOCATION:Morphy Auctions - Las Vegas\, 4520 Arville Street\, Las Vegas\, NV\, 89103\, United States
URL:https://morphyauctions.com/auctions/past-auctions/coin-op-advertising-las-vegas-6/
END:VEVENT
END:VCALENDAR