BEGIN:VCALENDAR
VERSION:2.0
PRODID:-//wp-events-plugin.com//7.2.3.1//EN
BEGIN:VEVENT
UID:ad6b291b-63be-4705-8eae-3a3bd7a9ef4f
DTSTART:20220622T130000Z
DTEND:20220622T190000Z
DTSTAMP:20220622T191327Z
SUMMARY:Coins & Currency
DESCRIPTION:Fresh collection of coins and currency. No Reserve.\nOver 1\,000 graded silver dollars and 1\,000 graded International notes.\nFEATURE ITEMS\n\n\n\n\n\n\n\n\n\n\n\n
LOCATION:Morphy Auctions\, 2000 North Reading Road\, Denver\, PA\, 17517\, United States
URL:https://morphyauctions.com/auctions/past-auctions/coins-currency-2/
END:VEVENT
END:VCALENDAR