BEGIN:VCALENDAR
VERSION:2.0
PRODID:-//wp-events-plugin.com//7.2.3.1//EN
BEGIN:VEVENT
UID:b5c89be0-d7f3-4a83-bb13-62fb08cb7090
DTSTART:20221219T140000Z
DTEND:20221221T044500Z
DTSTAMP:20221222T181928Z
SUMMARY:Fine & Decorative Arts
LOCATION:Morphy Auctions\, 2000 North Reading Road\, Denver\, PA\, 17517\, United States
URL:https://morphyauctions.com/auctions/past-auctions/fine-decorative-arts-18/
END:VEVENT
END:VCALENDAR