BEGIN:VCALENDAR
VERSION:2.0
PRODID:-//wp-events-plugin.com//7.2.3.1//EN
BEGIN:VEVENT
UID:e8ead981-a5ed-4e39-a625-ca65a11e4ba4
DTSTART:20241002T130000Z
DTEND:20241002T150000Z
DTSTAMP:20241002T153029Z
SUMMARY:Old West Auction
DESCRIPTION:Bidding for this Old West auction will take place ONLINE ONLY. Live Bidding will take place on October 2\, 2024 beginning at 9AM EST.\n\nIn-Person\, Absentee and Phone Bidding options will not be available for this auction.
LOCATION:Morphy Auctions\, 2000 North Reading Road\, Denver\, PA\, 17517\, United States
URL:https://morphyauctions.com/auctions/past-auctions/old-west-auction/
END:VEVENT
END:VCALENDAR