BEGIN:VCALENDAR
VERSION:2.0
PRODID:-//wp-events-plugin.com//7.2.3.1//EN
BEGIN:VEVENT
UID:2e87eaab-cdfd-4c25-b864-d9b7f24391f2
DTSTART:20260303T140000Z
DTEND:20260303T210000Z
DTSTAMP:20260210T163744Z
SUMMARY:Online Only Firearms & Militaria
DESCRIPTION:Bidding for this Firearms &amp\; Militaria auction will take place ONLINE ONLY. Live Bidding will take place on March 3\, 2026 beginning at 9AM EST.\n\nIn-Person\, Absentee and Phone Bidding options will not be available for this auction.
LOCATION:Morphy Auctions\, 2000 North Reading Road\, Denver\, PA\, 17517\, United States
URL:https://morphyauctions.com/auctions/past-auctions/online-only-firearms-militaria-2/
END:VEVENT
END:VCALENDAR