BEGIN:VCALENDAR
VERSION:2.0
PRODID:-//wp-events-plugin.com//7.2.3.1//EN
BEGIN:VEVENT
UID:34925fd6-2d70-48ed-ac27-02caf68664b6
DTSTART:20240507T130000Z
DTEND:20240507T210000Z
DTSTAMP:20240508T171407Z
SUMMARY:The Paul Friedrich Collection of Firearms & Gold Rush
DESCRIPTION:&nbsp\;\n\n[gallery ids="48087\,48088\,48089\,48090\,48091\,48092\,48094\,48095\,48096"]
LOCATION:Morphy Auctions\, 2000 North Reading Road\, Denver\, PA\, 17517\, United States
URL:https://morphyauctions.com/auctions/past-auctions/the-paul-friedrich-collection-of-firearms-gold-rush-2/
END:VEVENT
END:VCALENDAR