BEGIN:VCALENDAR
VERSION:2.0
PRODID:-//wp-events-plugin.com//7.2.3.1//EN
BEGIN:VEVENT
UID:df607f83-7ea8-4ce7-9e37-1e5c77baa4ba
DTSTART;VALUE=DATE:20130813
DTEND;VALUE=DATE:20130814
DTSTAMP:20160816T184504Z
SUMMARY:Toy & Train
DESCRIPTION:Aution Starts at  9am\nOver 200 lots of Postwar and Modern trains most with original boxes and accessories\, nice grouping of cast iron &amp\; tin toys including robots and Superhero toys\, cap guns and BB guns\, nice collections of Ferdinand the Bull items &amp\; 100 lots of paper dolls consisting of primarily the 20th century folders and boxed dolls. Most are uncut and unused\, which is the condition that collectors will be excited to own! There are sets relating to children\, Western\, Barbie\, teenagers\, personalities and many more. Victorian era paper dolls also are included.
LOCATION:Morphy Auctions\, 2000 North Reading Road\, Denver\, PA\, 17517\, United States
URL:https://morphyauctions.com/auctions/past-auctions/toy-train/
END:VEVENT
END:VCALENDAR